BEGIN:VCALENDAR
VERSION:2.0
PRODID:-//Tech Etch - ECPv6.15.17//NONSGML v1.0//EN
CALSCALE:GREGORIAN
METHOD:PUBLISH
X-ORIGINAL-URL:https://techetch.theriot.cloud
X-WR-CALDESC:Events for Tech Etch
REFRESH-INTERVAL;VALUE=DURATION:PT1H
X-Robots-Tag:noindex
X-PUBLISHED-TTL:PT1H
BEGIN:VTIMEZONE
TZID:UTC
BEGIN:STANDARD
TZOFFSETFROM:+0000
TZOFFSETTO:+0000
TZNAME:UTC
DTSTART:20210101T000000
END:STANDARD
END:VTIMEZONE
BEGIN:VEVENT
DTSTART;VALUE=DATE:20220614
DTEND;VALUE=DATE:20220616
DTSTAMP:20260421T090933
CREATED:20220414T090111Z
LAST-MODIFIED:20220419T171552Z
UID:4675-1655164800-1655337599@techetch.theriot.cloud
SUMMARY:Hydrogen Technology Expo 2022 Booth #214
DESCRIPTION:Hydrogen Technology Conference & Expo is North America’s must-attend exhibition and conference that is exclusively dedicated to discussing advanced technologies for the hydrogen and fuel cell industry. The event brings together the entire hydrogen value chain to focus on developing solutions and innovations for low-carbon hydrogen production\, efficient storage and distribution as well as applications in a variety of stationary and mobile applications. \nMore than 80+ exhibitors\, 80+ speakers and over 1\,500+ attendees will come together to discuss\, and see\, the latest technologies and engineering solutions\, advanced materials\, manufacturing equipment\, infrastructure\, as well as test and evaluation tools and services to finally commercialize hydrogen as a mainstream provider of clean\, renewable energy. \nThis year\, Tech Etch will be exhibiting at booth #214. Come by and visit us or reach out ahead of time to get the conversation started early at photoetch@techetch.com or https://techetch.theriot.cloud/request-a-quote/.
URL:https://techetch.theriot.cloud/event/hydrogen-technology-expo-2022/
LOCATION:George R. Brown Convention Center\, 1001 Avenida De Las Americas\, Houston\, TX\, 77010\, United States
CATEGORIES:Hydrogen
END:VEVENT
END:VCALENDAR