BEGIN:VCALENDAR
VERSION:2.0
PRODID:-//Tech Etch - ECPv6.15.17//NONSGML v1.0//EN
CALSCALE:GREGORIAN
METHOD:PUBLISH
X-ORIGINAL-URL:https://techetch.theriot.cloud
X-WR-CALDESC:Events for Tech Etch
REFRESH-INTERVAL;VALUE=DURATION:PT1H
X-Robots-Tag:noindex
X-PUBLISHED-TTL:PT1H
BEGIN:VTIMEZONE
TZID:UTC
BEGIN:STANDARD
TZOFFSETFROM:+0000
TZOFFSETTO:+0000
TZNAME:UTC
DTSTART:20210101T000000
END:STANDARD
END:VTIMEZONE
BEGIN:VEVENT
DTSTART;VALUE=DATE:20221102
DTEND;VALUE=DATE:20221104
DTSTAMP:20260421T104702
CREATED:20220419T155931Z
LAST-MODIFIED:20220620T141756Z
UID:4720-1667347200-1667519999@techetch.theriot.cloud
SUMMARY:MD&M Minneapolis 2022 Booth #114
DESCRIPTION:Advanced Manufacturing Minneapolis —\nThe Midwest’s Largest Annual Design and Manufacturing Event \n\n\n\n\nOur five-in-one design and manufacturing expo is built to give you a comprehensive view of the product lifecycle—from prototype to production. Come explore the latest insights and solutions spanning medtech\, packaging\, automation\, plastics\, and design. \nVisit us at Booth #114
URL:https://techetch.theriot.cloud/event/mdm-minneapolis-2022/
LOCATION:Minneapolis Convention Center\, 1301 2nd Ave S\, Minneapolis\, MN\, 55404\, United States
CATEGORIES:Manufacturing,Medical
END:VEVENT
BEGIN:VEVENT
DTSTART;VALUE=DATE:20220928
DTEND;VALUE=DATE:20220930
DTSTAMP:20260421T104702
CREATED:20220419T155418Z
LAST-MODIFIED:20220419T155546Z
UID:4714-1664323200-1664495999@techetch.theriot.cloud
SUMMARY:Design 2 Part Marlborough 2022
DESCRIPTION:The Region’s Largest Design & Contract Manufacturing Trade Show\nThe Design-2-Part Show is the most efficient place to meet hundreds of high-quality American suppliers of custom parts\, stock parts\, and manufacturing services. From design and prototypes to production\, finishing\, and assemblies — get the instant answers you need at this show.
URL:https://techetch.theriot.cloud/event/design-2-part-marlborough-2022/
LOCATION:Royal Plaza Trade Center\, 181 Royal Plaza Dr West\, Marlborough\, MA\, 01752\, United States
CATEGORIES:Manufacturing
END:VEVENT
BEGIN:VEVENT
DTSTART;VALUE=DATE:20220621
DTEND;VALUE=DATE:20220623
DTSTAMP:20260421T104702
CREATED:20220414T090111Z
LAST-MODIFIED:20220419T155002Z
UID:4673-1655769600-1655942399@techetch.theriot.cloud
SUMMARY:Design 2 Part Minneapolis 2022
DESCRIPTION:The Region’s Largest Design & Contract Manufacturing Trade Show\nThe Design-2-Part Show is the most efficient place to meet hundreds of high-quality American suppliers of custom parts\, stock parts\, and manufacturing services. From design and prototypes to production\, finishing\, and assemblies — get the instant answers you need at this show.
URL:https://techetch.theriot.cloud/event/design-2-part-minneapolis-2022/
LOCATION:Minneapolis Convention Center\, 1301 2nd Ave S\, Minneapolis\, MN\, 55404\, United States
CATEGORIES:Manufacturing
END:VEVENT
BEGIN:VEVENT
DTSTART;TZID=UTC:20220525T093000
DTEND;TZID=UTC:20220526T160000
DTSTAMP:20260421T104702
CREATED:20220414T090111Z
LAST-MODIFIED:20220419T152901Z
UID:4672-1653471000-1653580800@techetch.theriot.cloud
SUMMARY:Design 2 Part Santa Clara
DESCRIPTION:The Region’s Largest Design & Contract Manufacturing Trade Show\nEntering its 35th year in Northern California\, the Design-2-Part Show is the most efficient place to meet hundreds of high-quality American suppliers of custom parts\, stock parts\, and manufacturing services. From design and prototypes to production\, finishing\, and assemblies — get the instant answers you need at this show.
URL:https://techetch.theriot.cloud/event/design-2-part-santa-clara/
LOCATION:Santa Clara Convention Center\, 5001 Great America Pkwy\, Santa Clara\, CA\, 95054\, United States
CATEGORIES:Manufacturing
END:VEVENT
END:VCALENDAR